BEGIN:VCALENDAR
VERSION:2.0
PRODID:-//Library Market//iCal Export//EN
BEGIN:VEVENT
SUMMARY:Experimental Art Lab: Inspirational Banner-Making
UID:16619
DTSTAMP:20260423T041900Z
DTSTART:20260518T220000Z
DTEND:20260519T003000Z
LOCATION:Monroeville Public Library, 4000 Gateway Campus Blvd., Monroevill
 e, PA 15146, United States
ROOM: Gallery Space
DESCRIPTION:Join us as artist Amy Hauber guides us in a new art project! W
 eâ€™ll be doing a collaborative brain-storming session for inspirational m
 essages, which we will then turn into banners you can take home with you.Â
  
URL:https://monroeville.librarycalendar.com/event/hold-eal-16619
END:VEVENT
END:VCALENDAR
