BEGIN:VCALENDAR
VERSION:2.0
PRODID:-//Library Market//iCal Export//EN
BEGIN:VEVENT
SUMMARY:Book Discussion: The Screwtape Letters
UID:16225
DTSTAMP:20260419T193700Z
DTSTART:20260519T230000Z
DTEND:20260520T003000Z
LOCATION:Monroeville Public Library, 4000 Gateway Campus Blvd., Monroevill
 e, PA 15146, United States
ROOM: Gallery Space
DESCRIPTION:Join us for a discussion of C.S. Lewis’ novel &#039;The Scre
 wtape Letters&#039;. A satirical novel presented as a series of letters be
 tween two demons, an uncle and a nephew, Lewis uses the text to examine th
 eological concepts of sin, temptation, and resistance. It has also been ha
 iled as a great study of human nature and our understanding of reality. Fa
 cilitated along with Pastor Curt Leonard, we encourage a lively discussion
  of the text. &#039;The Screwtape Letters&#039; are available for free wi
 th your library card on Hoopla. Limited print copies available as well. RS
 VP please! Curt Leonard holds a bachelor&#039;s degree in pastoral minist
 ry along with an MDiv. He has served as a pastor at various churches in Wi
 sconsin and Pennsylvania. Curt, his wife Jenny, and his two children curre
 ntly live in Pittsburgh, where he has happily served as pastor of Holiday 
 Park Bible Church since 2020. 
URL:https://monroeville.librarycalendar.com/event/hold-book-talk-16225
END:VEVENT
END:VCALENDAR
